Workbook
Name _ftn1: '1-3 Orgs with Interest'!$A$26
Name _ftnref1: '1-3 Orgs with Interest'!$A$2
Name AppLegalForm: [1]Lists!$A$4:$A$6
Name ApplicantOther: [2]Lists!$A$30:$A$31
Name ApplicantType: #REF!
Name ApplicationType: #REF!
Name Check338: '2-3 Site Information'!#REF!
Name Check338: '2-4 Unit Type and Amenities'!#REF!
Name Check338: '2-6 Market Assessment'!#REF!
Name Counties: [2]Lists!$A$35:$A$288
Name d: [3]Lists!$A$1:$A$2
Name Daynbr: [2]Lists!$A$307:$A$337
Name Days: [4]Lists!#REF!
Name FYDay: [4]Lists!#REF!
Name FYDays: [1]Lists!$A$307:$A$337
Name HBAAssist: #REF!
Name https___www.tdhca.state.tx.us_pmcdocs_FH_SF_AMPlan_HOME_NSP.doc: "https://www.tdhca.state.tx.us/pmcdocs/FH-SF-AMPlan-HOME-NSP.doc"
Name LegalType: #REF!
Name Months: [2]Lists!$A$291:$A$302
Name Text872: '2-3 Site Information'!$G$11
Name Text872: '2-4 Unit Type and Amenities'!$G$16
Name Text872: '2-6 Market Assessment'!#REF!
Name Text874: '2-3 Site Information'!$C$11
Name Text874: '2-4 Unit Type and Amenities'!$C$16
Name Text874: '2-6 Market Assessment'!#REF!
Name Text875: '2-3 Site Information'!#REF!
Name Text875: '2-4 Unit Type and Amenities'!#REF!
Name Text875: '2-6 Market Assessment'!#REF!
Name YesNo: [5]Lists!$A$1:$A$2
Name YesNo: [2]Lists!$A$1:$A$2
Name YesOrNo: [1]Lists!$A$1:$A$2

Sheet Cover
A20: 2027
A21: HOME Single Family Development Program
A22: Application

Sheet 1-1 ApplicantInfo
A1: Use Arrow Keys to fill out form
A2: VOL 1 TAB 1: APPLICANT INFORMATION
A3: Provide the contact information for Applicant's staff person who is responsible for application and contract administration. This contact will not be the consultant or the service provider.
A4: A. CONTACT INFORMATION
A5: Applicant Legal Name
A6: Applicant Contact First Name
A7: Applicant Contact Last Name
A8: Contact Title
A9: Contact Phone (do not enter dashes, spaces, or parentheses)
A10: Contact Email
A11: Mailing Address
A12: City
... A41: Is Applicant currently administering one of the following programs? Select YES or NO from the drop menu.
C42: Weatherization | H42: Section 8
C43: Self-Help | H43: Amy Young
C44: Disaster Recovery | H44: CSBG
C45: Bootstrap | H45: HOPWA
C46: CDBG | H46: HOME
A47: Has Applicant attended TDHCA’s Income Determination Training within the previous 12 months?

Sheet 1-2 Org Info
A1: HOME Application Nonprofit Organization Information - Skip to Navigation Menu
A2: VOLUME 1 - TAB 2: ORGANIZATION INFORMATION
K3: Nonprofit Organization Information Instructions
A4: A. Organization Information
B5: Enter information and answer all questions. Print and make copies if more space is needed.
A6: i. Applicant Legal Name:
A7: ii. Legal Status:
A8: iii.. Date of legal formation of nonprofit organization:
A9: iv. Applicant is in good standing with the Secretary of State?
A10: v. State filing number is:
A11: vi. Is Applicant comprised of a joint venture between a nonprofit organization and a for profit entity?
B12: a. Will this nonprofit organization control Applicant?
B13: b. What is the ownership percentage of this nonprofit organization?
A14: vii. If Applicant will participate through a related subsidiary entity, provide the name of such entity:
B15: Legal status of subsidiary entity:
A16: ix. Do the members of Applicant’s Board of Directors serve in a voluntary capacity and receive no compensation, other than reimbursement for expenses for their services, and the nonprofit organization operates in a manner so that no part of its net earnings inures benefit of any individual, corporation, or other entity?
A17: B. Governing Body Membership (Board, Council, etc)
A18: List of Applicant’s Board Members, Directors and Officers:
A19: Name | C19: Title | E19: Phone | F19: Occupation | J19: Individual serves as a private individual acting in a private capacity?* | K19: Individual has a relationship, as affiliate or otherwise, with member(s) of the Applicant?
A20: Name | C20: Position on Board/Council | E20: Phone | F20: Email | J20: Individual serves as a private individual acting in a private capacity? | K20: Individual has a relationship, as affiliate or otherwise, with member(s) of the Applicant or Development Team?
A42: *An individual is considered to be acting in a private capacity if the individual is not an employee of a public body and is not being paid by a public body while performing functions in connection with the nonprofit organization. A public body is any state, city, county, town, township, village or general purpose political subdivision of the state.

Sheet 1-3 Orgs with Interest
A1: VOL 1 TAB 3: ORGANIZATIONS WITH AN OWNERSHIP OR SPECIAL INTEREST IN THE APPLICANT
A2: Provide the requested information for all partnerships, corporations, limited liability companies, trusts, or any other public or private entity and their Affiliates that will have an ownership interest in or that will exercise control over the Applicant. Organizations that own or control other organizations should also be identified until the only remaining sub-entity would be natural persons. Organizations that are Developers and/or guarantors must also be listed on this form as must any organization (and natural person whose ownership interest in an applicable entity is direct instead of via membership in an organization) that will receive more than 10% of the developer fee.
A4: A. Applicant Information
A5: Applicant Name:
A6: Address:
A7: City: | C7: State: | E7: Zip:
A8: Phone (Numbers only): | C8: Email:
A9: Previous TDHCA Experience?
A10: B. Other Organization with Ownership or Special Interest in the Applicant
A11: Origination 1 Legal Name:
A12: Name(s) of entities the Applicant owns or controls:
A13: Contact Name:
A14: Address:
A15: City: | C15: State: | E15: Zip:
A16: Phone (Numbers only): | C16: Email:
A17: Legal form of Applicant: | D17: Other Designations:
A18: Previous TDHCA Experience? | D18: Organization is identified in Org Chart?
A19: Sub-entities or Principals:
C20: TDHCA Experience?
C21: TDHCA Experience?
A23: Organization 2 Legal Name:
A24: Name(s) of entities the Applicant owns or controls:
A25: Contact Name:
A26: Address:
A27: City: | C27: State: | E27: Zip:
A28: Phone (Numbers only): | C28: Email:
A29: Legal form of Applicant: | D29: Other Designations:
A30: Previous TDHCA Experience? | D30: Organization is identified in Org Chart?
A31: Sub-entities or Principals:
C32: TDHCA Experience?
C33: TDHCA Experience?
A36: Organization 3 Legal Name:
A37: Name(s) of entities the Applicant owns or controls:
A38: Contact Name:
A39: Address:
A40: City: | C40: State: | E40: Zip:
A41: Phone (Numbers only): | C41: Email:
A42: Legal form of Applicant: | D42: Other Designations:
A43: Previous TDHCA Experience? | D43: Organization is identified in Org Chart?
A44: Sub-entities or Principals:
...

Sheet 1-4 Dev Team 
A1: VOL 1 TAB 4: DEVELOPMENT TEAM MEMBERS
A2: The requested information on all known development team members must be provided. In addition to the categories listed below, the “Other” category should be used to list all known development team members that are included in the “Development Cost Schedule.” If the team member that will be utilized is not yet known, indicate “TBD.” If it is anticipated that the development team category will not be utilized, indicate “N/A.”
A4: Developer Name:
A5: Contact Name:
A6: Address: | C6: City: | E6: State: | G6: Zip:
A7: Phone: | C7: Email:
A8: Proposed Fee: | C8: Entity is certified as a Texas HUB:
A9: This is a direct, indirect, financial, or other interest with the Applicant or other team members:
A11: Building Contractor:
A12: Contact Name:
A13: Address: | C13: City: | E13: State: | G13: Zip:
A14: Phone: | C14: Email:
A15: Proposed Fee: | C15: Entity is certified as a Texas HUB:
A16: This is a direct, indirect, financial, or other interest with the Applicant or other team members:
A18: Cost Estimator:
A19: Contact Name:
A20: Address: | C20: City: | E20: State: | G20: Zip:
A21: Phone: | C21: Email:
A22: Proposed Fee: | C22: Entity is certified as a Texas HUB:
A23: This is a direct, indirect, financial, or other interest with the Applicant or other team members:
A25: Architect:
A26: Contact Name:
A27: Address: | C27: City: | E27: State: | G27: Zip:
A28: Phone: | C28: Email:
A29: Proposed Fee: | C29: Entity is certified as a Texas HUB:
A30: This is a direct, indirect, financial, or other interest with the Applicant or other team members:
A32: Engineer:
A33: Contact Name:
A34: Address: | C34: City: | E34: State: | G34: Zip:
A35: Phone: | C35: Email:
A36: Proposed Fee: | C36: Entity is certified as a Texas HUB:
A37: This is a direct, indirect, financial, or other interest with the Applicant or other team members:
A39: Appraiser:
A40: Contact Name:
A41: Address: | C41: City: | E41: State: | G41: Zip:
A42: Phone: | C42: Email:
A43: Proposed Fee: | C43: Entity is certified as a Texas HUB:
A44: This is a direct, indirect, financial, or other interest with the Applicant or other team members:
A46: Attorney:
A47: Contact Name:
...

Sheet 1-5 Financial Capacity
A1: HOME Program Application Local Cash Reserve- Skip to Navigation Menu
A2: VOL 1 TAB 5: FINANCIAL CAPACITY SELECTION
A4: One of the following must be selected to meet the Application threshold requirements. Select only one of the following. Required documentation described must be submitted as described in the ASPM. Also note that the amount of the committed cash reserves must be included and stated in Applicant's Resolution.
C6: Option 1: Financial statements indicating at least $100,000 in unrestricted cash reserves that may be used as a short-term loan for the development, AND
C7: Letter from Applicant's bank(s) or financial institution(s) indicating that current account balances include at least $100,000 in available funds.
C8: (Note that submission of bank statements or opinion letters individually are not acceptable support under this option.)
C10: Option 2: Evidence of an available line of credit or equivalent in an amount equal to or exceeding $100,000 is or will be available for use throughout the development period. This evidence must include a term sheet for proposed financing or evidence that the existing financing is in place and the available funds under the financing meet or exceed $100,000 at the time of application.
A13: List of Links
A14: Local Cash Reserve Instructions
A15: Amount of Cash Reserves Instructions
A16: Start Fillable Form

Sheet 1-6 Public Notifications
A1: VOL 1 TAB 6: PUBLIC NOTIFICATION INFORMATION
A2: THE FOLLOWING PARTIES MUST BE NOTIFIED BY THE DEPARTMENT THAT AN APPLICATION FOR DEVELOPMENT OF AFFORDABLE HOUSING HAS BEEN SUBMITTED WITHIN THEIR JURISDICTION WITHIN 14 DAYS OF SUBMISSION OF THE APPLICATION IN ACCORDANCE WITH TEX. GOV'T CODE 2306.1114. INCORRECT OR INCOMPLETE INFORMATION SUBMITTED BY APPLICANT ON THIS FORM MAY RESULT IN TERMINATION OF THE APPLICATION.
A4: US Representative:
A5: District #:
A7: State Senator: | C7: State Representative:
A8: District #: | C8: District #:
A10: City Mayor: | C10: County Judge:
A13: Superintendent of the School District
A14: Contact Name:
A15: Address: | C15: City: | E15: State: | G15: Zip:
A16: Phone:
A18: Presiding Officer of Board of Trustees for School District
A19: Contact Name:
A20: Address: | C20: City: | E20: State: | G20: Zip:
A21: Phone:
A23: City Council Members
A24: Development is located in a:
A25: If Development is located in a Single Member District, list the Council Person for the district below:
A26: Name:
A27: Address: | C27: City: | E27: State: | G27: Zip:
A28: Phone:
A29: If Development is located in an At Large or Single Member and At Large District, list ALL City Council Members.
A30: Name: | D30: District Number:
A31: Address: | C31: City: | E31: State: | G31: Zip:
A32: Phone:
A34: Name: | D34: District Number:
A35: Address: | C35: City: | E35: State: | G35: Zip:
A36: Phone:
A38: Name: | D38: District Number:
A39: Address: | C39: City: | E39: State: | G39: Zip:
A40: Phone:
A42: Name: | D42: District Number:
A43: Address: | C43: City: | E43: State: | G43: Zip:
A44: Phone:
A46: Name: | D46: District Number:
A47: Address: | C47: City: | E47: State: | G47: Zip:
A48: Phone:
A50: Name:
A51: Address: | C51: City: | E51: State: | G51: Zip:
A52: Phone:
...

Sheet 1-7 Previous Participation
A2: Previous Participation Form - Programs Covered Under 10 TAC §1.302 This form is used for Department Program Awards Not Covered by 10 TAC §1.301
A3: Identify the Applicant or Affiliate legal name and contact information for the person designated to address questions from TDHCA staff regarding this form and/or the previous participation review.
A4: Applicant or Affiliate Legal Name:
A5: Designated Contact Name:
A6: Designated Contact Email:
A7: 1. List members of the board of directors, council, or other governing body as applicable (if necessary attach a separate page).
A8: By placing my initials in this box, I certify that there is no board of directors, council, or other governing body.
A9: ID # | B9: First Name | D9: Last Name | G9: Home Address (City and State only) | I9: Role
A10: 1a
A11: 1b
A12: 1c
A13: 1d
A14: 1e
A15: 1f
A16: 1g
A17: 1h
A18: 1i
A19: 1j
A20: 1k
A21: 1l
... A25: 2. List key personnel (Executive Director, CFO, Program Director, etc.), if necessary attach a separate page. Alternatively, if applying for a Community Affairs Program, applicant may attach a separate page certifying compliance with 10 TAC §6.6.
A26: ID # | B26: First Name | D26: Last Name | G26: Home Address (City and State only) | I26: Role
A27: 2a
A28: 2b
A29: 2c
A30: 2d
A31: 2e
A32: 2f
A33: 2g
A34: 3. List all TDHCA multifamily developments (including: HTC, HTC Exchange, BOND, HOME, SHTF, NHTF, TCAP, TCAP-RF, and NSP) that the Applicant or Affiliate has owned or controlled at any time (if necessary attach a separate page).
A35: By placing my initials in this box, I certify that the Applicant or Affiliate has NO prior TDHCA multifamily experience.
A36: TDHCA ID# | B36: Property Name | F36: Property City | H36: Program | J36: Control began (mm/yy) | K36: Control end (mm/yy)
A43: 4. Identify all Community Affairs and Single Family Department programs that the Applicant or Affiliate has participated in within the last three (3) years by placing an "X" next to the program name.
A44: By placing my initials in this box, I certify that the Applicant or Affiliate has NO TDHCA Program experience (within the last 3 yrs).
A45: Community Affairs: | B45: CEAP | D45: CSBG | F45: CSBG Discretionary | H45: DOE | J45: LIHEAP WAP
A46: HOME & Homeless: | B46: HOME | D46: ESG CARES | F46: ESG | H46: HHSP
A47: HTF/OCI: | B47: AYBR | D47: Bootstrap | F47: CFDC | H47: Self-Help
A48: NSP: | C48: Other:

Sheet 2-1 Dev Cost Sched
A1: VOL 2 TAB 1: DEVELOPMENT COST SCHEDULE
A2: This Development Cost Schedule must be consistent with the Summary Sources and Uses of Funds and the Funding Request. All applications must complete a column for each unit type proposed and estimate the number of each unit type that will ultimately be constructed in the "NUMBER PLANNED" line item. The "TOTALS" column will automatically fill in based on the estimated per unit costs. The total amount of the developer fee/profit will be received at the final closing with the homebuyer and will not be included in the construction financing from the Department. All information included in this exhibit should match the information provided throughout the application.
A3: Is general contractor/builder the same entity or an affiliate of the developer?
A4: Is the application proposing self-help housing in accordance with the requirements of the Bootstrap Program?
A6: UNIT TYPE | B6: A | C6: B | D6: C | E6: D | F6: TOTALS
A7: NUMBER PLANNED | B7: 0 | C7: 0 | D7: 0 | E7: 0 | F7: =SUM(B7:E7) -> 0
A8: NET SQUARE FOOTAGE | B8: 0 | C8: 0 | D8: 0 | E8: 0 | F8: =B8*$B$7+C8*$C$7+D8*$D$7+E8*$E$7 -> 0
A9: DEVELOPMENT COSTS
A10: Acquisition Costs
A11: Does the Applicant already own the property to be developed?
A12: Site Acquisition Cost (if not owned by Applicant) | B12: 0 | C12: 0 | D12: 0 | E12: 0 | F12: =IF(B11="No",B12*$B$7,0)+IF(C11="No",C12*$C$7,0)+IF(D11="No",D12*$D$7,0)+IF(E11="No",E12*$E$7,0) -> 0
A13: Interim Loan Closing Costs including Acquisition (if applicable) | B13: 0 | C13: 0 | D13: 0 | E13: 0 | F13: =B13*$B$7+C13*$C$7+D13*$D$7+E13*$E$7 -> 0
A14: Ineligible HOME Costs
A15: All Off-Site Costs (utliites, paving, drainage, etc) | B15: 0 | C15: 0 | D15: 0 | E15: 0 | F15: =B15*$B$7+C15*$C$7+D15*$D$7+E15*$E$7 -> 0
A16: Detatched Garage or other structure | B16: 0 | C16: 0 | D16: 0 | E16: 0 | F16: =B16*$B$7+C16*$C$7+D16*$D$7+E16*$E$7 -> 0
A17: Other (specify) | B17: 0 | C17: 0 | D17: 0 | E17: 0 | F17: =B17*$B$7+C17*$C$7+D17*$D$7+E17*$E$7 -> 0
A18: Site Work (May only include site to be purchased by homebuyer)
A19: Demolition | B19: 0 | C19: 0 | D19: 0 | E19: 0 | F19: =B19*$B$7+C19*$C$7+D19*$D$7+E19*$E$7 -> 0
A20: Detention | B20: 0 | C20: 0 | D20: 0 | E20: 0 | F20: =B20*$B$7+C20*$C$7+D20*$D$7+E20*$E$7 -> 0
A21: Rough grading | B21: 0 | C21: 0 | D21: 0 | E21: 0 | F21: =B21*$B$7+C21*$C$7+D21*$D$7+E21*$E$7 -> 0
A22: Fine grading | F22: =B22*$B$7+C22*$C$7+D22*$D$7+E22*$E$7 -> 0
A23: On-site concrete | F23: =B23*$B$7+C23*$C$7+D23*$D$7+E23*$E$7 -> 0
A24: On-site electrical | F24: =B24*$B$7+C24*$C$7+D24*$D$7+E24*$E$7 -> 0
A25: On-site paving | F25: =B25*$B$7+C25*$C$7+D25*$D$7+E25*$E$7 -> 0
A26: On-site utilities | F26: =B26*$B$7+C26*$C$7+D26*$D$7+E26*$E$7 -> 0
A27: Landscaping | F27: =B27*$B$7+C27*$C$7+D27*$D$7+E27*$E$7 -> 0
A28: Fencing | F28: =B28*$B$7+C28*$C$7+D28*$D$7+E28*$E$7 -> 0
A29: Other (specify) | F29: =B29*$B$7+C29*$C$7+D29*$D$7+E29*$E$7 -> 0
A30: Unit Construction Costs (must include all costs regardless of funding source)
A31: Foundation | F31: =B31*$B$7+C31*$C$7+D31*$D$7+E31*$E$7 -> 0
A32: Flat Work | F32: =B32*$B$7+C32*$C$7+D32*$D$7+E32*$E$7 -> 0
A33: Plumbing and Fixtures | F33: =B33*$B$7+C33*$C$7+D33*$D$7+E33*$E$7 -> 0
A34: Electrical and Fixtures | F34: =B34*$B$7+C34*$C$7+D34*$D$7+E34*$E$7 -> 0
A35: Framing (including interior/exterior doors and windows) | F35: =B35*$B$7+C35*$C$7+D35*$D$7+E35*$E$7 -> 0
A36: Insulation | F36: =B36*$B$7+C36*$C$7+D36*$D$7+E36*$E$7 -> 0
A37: Exterior Surface (siding, soffits, trim, and paint) | F37: =B37*$B$7+C37*$C$7+D37*$D$7+E37*$E$7 -> 0
A38: Interior Surface, including paint | F38: =B38*$B$7+C38*$C$7+D38*$D$7+E38*$E$7 -> 0
A39: Finish Carpentry | F39: =B39*$B$7+C39*$C$7+D39*$D$7+E39*$E$7 -> 0
A40: Cabinets (including kitchen, bath, and other) | F40: =B40*$B$7+C40*$C$7+D40*$D$7+E40*$E$7 -> 0
A41: Appliances (including range, refrigerator, dishwasher, washer/dryer) | F41: =B41*$B$7+C41*$C$7+D41*$D$7+E41*$E$7 -> 0
...

Sheet 2-2 Sources and Match
A1: VOL 2 TAB 2: SOURCES AND MATCH
A2: The total Interim Financing must be equal to the total cost of the development reflected in the Development Cost Schedule. The total Permanent Financing should be equal to the total permanent costs reflected in the Development Cost Schedule. Each source of financing reflected below must be described in the financing narrative. | E2: 0
A3: A. Uses | E3: 0.05
A4: 1 | B4: Total Interim Costs | D4: ='2-1 Dev Cost Sched'!F53 -> 0 | E4: 0.06
A5: 2 | B5: Total Permanent Costs | D5: ='2-1 Dev Cost Sched'!F72 -> 0 | E5: 0.07
E6: 0.08
A7: B. Interim Funding Sources | E7: 0.09
C8: Amount/Value Provided | D8: Source Provided By (Either Applicant or Name of Organization or Program) | E8: 0.1
B9: Source of Funds | E9: 0.11
A10: 1 | B10: TDHCA HOME Loan | C10: 0 | D10: TDHCA | E10: 0.12
A11: 2 | B11: Other TDHCA Program Loan | C11: 0 | D11: TDHCA | E11: 0.13
A12: 3 | B12: Applicant cash / cash equivalents from non-federal sources | C12: 0 | E12: 0.14
A13: 4 | B13: Cash Equity | C13: 0 | E13: 0.15
A14: 5 | B14: CDBG | C14: 0 | E14: 0.16
A15: 6 | B15: Non-TDHCA HOME Loan | C15: 0 | E15: 0.17
A16: 7 | B16: Other Federal Loan or Grant | C16: 0 | E16: 0.18
A17: 8 | B17: Local Municipality Loan | C17: 0 | E17: 0.19
A18: 9 | B18: Private Loan | C18: 0 | E18: 0.2
A19: 10 | B19: Conventional Loan | C19: 0 | E19: 0.21
A20: TOTAL SOURCES OF FUNDS | C20: =SUM(C10:C19) -> 0 | D20: =IF(D4>0,(IF(C20<>D4,"Update Funding Amounts"," "))," ") | E20: 0.22
E21: 0.23
E22: 0.24
A23: B. Permanent Funding Sources | E23: 0.25
C24: Amount Provided | D24: Source Provided By (Either Applicant, Homebuyer, or Name of Organization or Program):
B25: Source of Funds
A26: 1 | B26: TDHCA HOME Loan | C26: 0 | D26: TDHCA
A27: 2 | B27: Other TDHCA Program Loan | C27: 0 | D27: TDHCA
A28: 3 | B28: CDBG | C28: 0
A29: 4 | B29: Non-TDHCA HOME Loan | C29: 0
A30: 5 | B30: Other Federal Loan or Grant | C30: 0
A31: 6 | B31: Local Municipality Loan | C31: 0
A32: 7 | B32: Private Loan | C32: 0
A33: 8 | B33: Conventional Loan | C33: 0
A34: 9 | B34: Buyer Cash Contribution | C34: 0
A35: TOTAL SOURCES OF FUNDS | C35: =SUM(C26:C34) -> 0 | D35: =IF(D5>0,(IF(C35<>D5,"Update Funding Amounts"," "))," ")
A37: C. Match Detail
A38: Service Area (City or Unincorporated County in which Development is located)
A39: Population of Service Area (ACS for cities of less than 5,000 Persons, Quick Facts for unincorporated county of city over 5,000 persons)
A40: Match Percentage Required
A41: Match Amount Required | D41: =IF(C10>C26,C10*D40,C26*D40) -> 0
...

Sheet 2-3 Site Information
A1: HOME Application Service Area HRA - Skip to Navigation Menu
A2: VOL 2 TAB 3: SITE INFORMATION | J2: Anderson County
A3: Complete this form for each lot. For contiguous lots secured by one purchase contract this form may be completed once. The support documentation for each election below must be included behind this tab. This worksheet may be duplicated if multiples are required. | J3: Andrews County
A4: County | C4: List specific cities or colonias served | F4: Is city or county located within a PJ or part of a Consortium? | H4: If “YES” list PJ or Consortium | J4: Angelina County
J5: Aransas County
A6: A. Lot Attributes | J6: Archer County
A7: 1. Location and Description: | J7: Armstrong County
A8: 2. Single Lot or Contiguous Multiple Lots: | J8: Atascosa County
A9: 3. Legal Description: (if contiguous, the description may encompass all lots) | J9: Austin County
A10: 4. Acreage or Lot Dimensions, as applicable: | J10: Bailey County
A11: B. Zoning and Suitability Information | J11: Bandera County
A12: 1. The site is zoned for the proposed use: | J12: Blanco County
A13: 2. The current zoning designation is: | J13: Borden County
A14: 3. The site is in the process of being rezoned: | J14: Bosque County
A15: 4. Site entirely outside a designated 100-year Flood Hazard Area or Flood Plain: | J15: Bowie County
A16: 5. Site is within a hazard area but the development is designed as required by program rules: | J16: Brazoria County
A17: C. Site Control and Acquisition Information | J17: Brazos County
B18: Site control responses must align with attachments, and may include a warranty deed with the settlement statement or closing disclosure, a purchase contract, or a purchase option. | J18: Brewster County
J19: Briscoe County
A20: 1. Expiration date of contract or option (if applicable):
A21: 2. Acquisition cost: | J21: Brown County
A22: 3. Anticipated/Actual closing date: | J22: Burleson County
A23: 4. Seller name: | E23: 5. Seller Phone: | J23: Burnet County
A24: 5. Seller address: | J24: Caldwell County
A25: 6. Is the seller affiliated with the Applicant or any development team member? | J25: Calhoun County
A26: 7. If seller is affiliated, please explain: | J26: Callahan County
A27: 8. Did the seller acquire the property through foreclosure or deed in lieu of foreclosure? | J27: Cameron County
A28: Applicant or Applicant Representative Reminder: | J28: Camp County
A29: All of the sellers of the proposed Property for the 36 months prior to the first day of the Application Acceptance Period and their relationship, if any, to members of the Development team MUST be identified behind this tab. | J29: Carson County
J30: Cass County
J31: Castro County
J32: Chambers County
J33: Cherokee County
J34: Childress County
J35: Clay County
J36: Cochran County
J37: Coke County
J38: Coleman County
J39: Collin County
J40: Collingsworth County
...

Sheet 2-4 Unit Type and Amenities
A1: HOME Application Service Area HRA - Skip to Navigation Menu
A2: VOL 2 TAB 4: UNIT TYPE AND AMENITIES
A3: Complete this form for each unit type. This worksheet may be duplicated and inserted behind this worksheet if more than one unit type is proposed. Each unit type must be included and reconcile with the Development Cost Schedule.
A4: A. Unit Type
A5: 1. Plan name:
A6: 2. Bedrooms/Bathrooms:
A7: 3. Total gross square footage:
A8: 4. Covered or uncovered patio/porch square footage:
A9: 5. Total net square footage:
B11: Submit a floorplan and exterior elevation behind this tab which includes:
B12: i. Unit plan name;
B13: ii. Exterior building composition;
B14: iii. A legible and accurate scale; and
B15: iv. Verification within the plan that the unit meets the listed accessibility requirements of 2306.514.
A16: B. Exterior - Selections must be consistent with submitted architectural plans
A17: Subfloor:
A18: Parking: | C18: shed or flat roof carport spaces
C19: uncovered spaces
C20: of garaged spaces
C21: on-street parking available
A22: Roof:
A23: C. Interior - Selections must be consistent with submitted architectural plans
A24: Flooring: | C24: % carpet | D24: Air System:
C25: % resilient covering | D25: Walls:
C26: % ceramic tile | D26: Ceiling height:
C27: % stained concrete | D27: Other amenities:
C28: % hardwood
C29: % laminate

Sheet 2-5 Affordability Analysis
A1: VOL 2 TAB 5: LOAN AFFORDABILITY ANALYSIS
A2: This tab is provided to help assess the affordability of the development for low-income households in accordance with TDHCA's requirements. Please evaluate whether the loan products will be affordable and adjust the development costs in order to ensure that the development will be marketable to HOME eligible homebuyers.
A3: A. Assumptions
A4: Loan Term (mos): | C4: 360
A5: Assessed Value (est.): | C5: 0.9
A7: B. Loan Calculations
A8: Unit Type | D8: =+'2-1 Dev Cost Sched'!B6 -> A | E8: =+'2-1 Dev Cost Sched'!C6 -> B | F8: =+'2-1 Dev Cost Sched'!D6 -> C | G8: =+'2-1 Dev Cost Sched'!E6 -> D
A9: Sales Price | D9: ='2-1 Dev Cost Sched'!B70 -> 0 | E9: ='2-1 Dev Cost Sched'!C70 -> 0 | F9: ='2-1 Dev Cost Sched'!D70 -> 0 | G9: ='2-1 Dev Cost Sched'!E70 -> 0
A10: Buyer's Closing Costs | D10: ='2-1 Dev Cost Sched'!B71 -> 0 | E10: ='2-1 Dev Cost Sched'!C71 -> 0 | F10: ='2-1 Dev Cost Sched'!D71 -> 0 | G10: ='2-1 Dev Cost Sched'!E71 -> 0
A11: Deferred Forgivable (Max 10% of HOME Development Costs) | D11: =SUM('2-1 Dev Cost Sched'!B53+'2-1 Dev Cost Sched'!B68+'2-1 Dev Cost Sched'!B69)*0.1 -> 0 | E11: =SUM('2-1 Dev Cost Sched'!C53+'2-1 Dev Cost Sched'!C68+'2-1 Dev Cost Sched'!C69)*0.1 -> 0 | F11: =SUM('2-1 Dev Cost Sched'!D53+'2-1 Dev Cost Sched'!D68+'2-1 Dev Cost Sched'!D69)*0.1 -> 0 | G11: =SUM('2-1 Dev Cost Sched'!E53+'2-1 Dev Cost Sched'!E68+'2-1 Dev Cost Sched'!E69)*0.1 -> 0
A12: Minimum First Lien Loan Amount: | D12: =+D9+D10-D11 -> 0 | E12: =+E9+E10-E11 -> 0 | F12: =+F9+F10-F11 -> 0 | G12: =+G9+G10-G11 -> 0
A14: Minimum P & I (0% Interest/max deferred) | D14: =IF($D$12="","",-PMT(0/12,$C$4,$D$12)) -> 0 | E14: =IF($E$9="","",-PMT(0/12,$C$4,$E$12)) -> 0 | F14: =IF($F$9="","",-PMT(0/12,$C$4,$F$12)) -> 0 | G14: =IF($G$9="","",-PMT(0/12,$C$4,$G$12)) -> 0
A15: Maximum P&I (5% Interest, no deferred) | D15: =IF($D$9="","",-PMT(0.05/12,$C$4,$D$9)) -> 0 | E15: =IF($E$9="","",-PMT(0.05/12,$C$4,$E$9)) -> 0 | F15: =IF($F$9="","",-PMT(0.05/12,$C$4,$F$9)) -> 0 | G15: =IF($G$9="","",-PMT(0.05/12,$C$4,$G$9)) -> 0
A16: Estimated Monthly Taxes | D16: 0 | E16: 0 | F16: 0 | G16: 0
A17: Estimated Monthly Insurance | D17: 0 | E17: 0 | F17: 0 | G17: 0
A18: MIP (if required by financing source) | D18: 0 | E18: 0 | F18: 0 | G18: 0
A19: Total Minimum Payment | D19: =IF(D9="","",SUM(D14,D16,D17,D18)) -> 0 | E19: =IF(E9="","",SUM(E14,E16,E17,E18)) -> 0 | F19: =IF(F9="","",SUM(F14,F16,F17,F18)) -> 0 | G19: =IF(G9="","",SUM(G14,G16,G17,G18)) -> 0
A20: Total Maximum Payment | D20: =SUM(D15,D16,D17,D18) -> 0 | E20: =SUM(E15,E16,E17,E18) -> 0 | F20: =SUM(F15,F16,F17,F18) -> 0 | G20: =SUM(G15,G16,G17,G18) -> 0
A21: MINIMUM INCOME SERVED | D21: =+(D19/0.45)*12 -> 0 | E21: =+(E19/0.45)*12 -> 0 | F21: =+(F19/0.45)*12 -> 0 | G21: =+(G19/0.45)*12 -> 0
A22: MAXIMUM INCOME SERVED | D22: =+(D20/0.2)*12 -> 0 | E22: =+(E20/0.2)*12 -> 0 | F22: =+(F20/0.2)*12 -> 0 | G22: =+(G20/0.2)*12 -> 0
A24: D. Qualifying Income*
C25: 1-Person | D25: 2-Person | E25: 3-Person | F25: 4-Person | G25: 5-Person | H25: 6-Person | I25: 7-Person | J25: 8-Person
A26: 30% AMFI | C26: 0 | D26: 0 | E26: 0 | F26: 0 | G26: 0 | H26: 0 | I26: 0 | J26: 0
A27: Monthly Income | C27: =+C26/12 -> 0 | D27: =+D26/12 -> 0 | E27: =+E26/12 -> 0 | F27: =+F26/12 -> 0 | G27: =+G26/12 -> 0 | H27: =+H26/12 -> 0 | I27: =+I26/12 -> 0 | J27: =+J26/12 -> 0
A28: PITI @30% | C28: =+C27*0.3 -> 0 | D28: =+D27*0.3 -> 0 | E28: =+E27*0.3 -> 0 | F28: =+F27*0.3 -> 0 | G28: =+G27*0.3 -> 0 | H28: =+H27*0.3 -> 0 | I28: =+I27*0.3 -> 0 | J28: =+J27*0.3 -> 0
A30: 80% AMFI | C30: 0 | D30: 0 | E30: 0 | F30: 0 | G30: 0 | H30: 0 | I30: 0 | J30: 0
A31: Monthly Income | C31: =+C30/12 -> 0 | D31: =+D30/12 -> 0 | E31: =+E30/12 -> 0 | F31: =+F30/12 -> 0 | G31: =+G30/12 -> 0 | H31: =+H30/12 -> 0 | I31: =+I30/12 -> 0 | J31: =+J30/12 -> 0
A32: PITI @30% | C32: =+C31*0.3 -> 0 | D32: =+D31*0.3 -> 0 | E32: =+E31*0.3 -> 0 | F32: =+F31*0.3 -> 0 | G32: =+G31*0.3 -> 0 | H32: =+H31*0.3 -> 0 | I32: =+I31*0.3 -> 0 | J32: =+J31*0.3 -> 0
B33: * Input Qualifying Incomes from the HOME Income Limits chart for the applicable county for the current year.

Sheet 2-6 Market Assessment
A1: HOME Application Service Area HRA - Skip to Navigation Menu
A2: VOL 2 TAB 6: MARKET ASSESSMENT
B4: Complete highlighted fields in their entirety. The information provided in the Application is intended to demonstrate market demand. The market area must include all areas referenced in the Affirmative Fair Housing Marketing Plan.
A5: A. | B5: Estimated number of households in the market area whose income supports participation:
B6: This estimate must be based on the analysis provided in the Loan Affordability Analysis and the most recent American Community Survey income data for the market area.
A9: B. | B9: Other organizations or entities that provide comparable services or offer comparable programs:
B10: Org 1 Name: | F10: Annual Estimate of Household Served:
B12: Org 2 Name: | F12: Annual Estimate of Household Served:
B14: Org 3 Name: | F14: Annual Estimate of Household Served:
B16: Org 4 Name: | F16: Annual Estimate of Household Served:
B18: Org 5 Name: | F18: Annual Estimate of Household Served:
A20: C. | B20: Number of comparable units for sale within 6 months of the Application date:
B21: Average number of days on market:
B22: How were average number of days on market determined by Applicant? Please include any necessary citations.
